{"text_format":"1","workbook":"xlsx","n_sheets":3,"sheets":["Wahlamt","Internet","Präsentation"],"not_rendered":{"charts":0,"images":0,"macros":1,"external_links":0,"defined_names":3,"comments":0,"pivot_tables":0},"unopened":[],"bounds":{"document_bytes":16777216,"sheet_cells":100000,"rows_first":2000,"rows_last":500,"rows_between":2000,"halvings":0,"cell_chars":16384,"cell_head_chars":4096},"cells_cut":0,"cells_raw":0,"read":"whole","date_system":"1900"}

{"sheet":"Wahlamt","index":0,"n_rows":8,"n_cols":16,"rows_kept":8,"cut":false,"hidden":false,"merged":[]}
["Ergebnisse der Bürgermeisterstichwahlen am 29. März 2020 im Landkreis Rottal-Inn"]
[]
["Gemeinden","Stimmbe-rechtigte insges.     A1 + A2","Wähler                     B\ninsgesamt","Bewerber A","Stimmen","Prozent","Bewerber B","Stimmen ","Prozent","Gültige Stimmen\ngesamt","ungültige Stimmen\ngesamt",null,"Gesamt-\nprozent","Kontrolle","Uhrzeit\nEingang\nMeldung","Wahl-\nbeteiligung"]
["Eggenfelden",10666,6534,"Biber Martin (CSU)",4409,{"$f":"E4/J4","v":0.67664211172498467},"Grubwinkler Wolfgang (UWG)",2107,{"$f":"H4/J4","v":0.32335788827501533},{"$f":"E4+H4","v":6516},{"$f":"C4-J4","v":18},null,{"$f":"F4+I4","v":1},{"$f":"IF(M4<>100%,\"FALSCH\",\"ok\")","v":"ok"},"07:53:00",{"$f":"C4/B4","v":0.61260078754922187}]
[]
["Hebertsfelden",2923,2199,"Utermann Marion (CSU)",655,{"$f":"E6/J6","v":0.29867761057911535},"Kienböck-Stöger Karin (PWG)",1538,{"$f":"H6/J6","v":0.70132238942088465},{"$f":"E6+H6","v":2193},{"$f":"C6-J6","v":6},null,{"$f":"F6+I6","v":1},{"$f":"IF(M6<>100%,\"FALSCH\",\"ok\")","v":"ok"},"19:45:00",{"$f":"C6/B6","v":0.75230927129661307}]
[]
["Wittibreut",1635,1379,"Moser Christine (CSU)",739,{"$f":"E8/J8","v":0.53745454545454541},"Maier Alfons (FW)",636,{"$f":"H8/J8","v":0.46254545454545454},{"$f":"E8+H8","v":1375},{"$f":"C8-J8","v":4},null,{"$f":"F8+I8","v":1},{"$f":"IF(M8<>100%,\"FALSCH\",\"ok\")","v":"ok"},"21:21:00",{"$f":"C8/B8","v":0.84342507645259934}]

{"sheet":"Internet","index":1,"n_rows":8,"n_cols":11,"rows_kept":8,"cut":false,"hidden":false,"merged":[]}
["Ergebnisse der Bürgermeisterstichwahlen am 29. März 2020 im Landkreis Rottal-Inn"]
[]
["Gemeinden","Stimmbe-rechtigte insges.     A1 + A2","Wähler                     B\ninsgesamt","Bewerber A","Stimmen","Prozent","Bewerber B","Stimmen ","Prozent","Gültige Stimmen\ngesamt","ungültige Stimmen\ngesamt"]
[{"$f":"Wahlamt!A4","v":"Eggenfelden"},{"$f":"Wahlamt!B4","v":10666},{"$f":"Wahlamt!C4","v":6534},{"$f":"Wahlamt!D4","v":"Biber Martin (CSU)"},{"$f":"Wahlamt!E4","v":4409},{"$f":"Wahlamt!F4","v":0.67664211172498467},{"$f":"Wahlamt!G4","v":"Grubwinkler Wolfgang (UWG)"},{"$f":"Wahlamt!H4","v":2107},{"$f":"Wahlamt!I4","v":0.32335788827501533},{"$f":"Wahlamt!J4","v":6516},{"$f":"Wahlamt!K4","v":18}]
[]
["Hebertsfelden",2923,2199,"Utermann Marion (CSU)",655,{"$f":"E6/J6","v":0.29867761057911535},"Kienböck-Stöger Karin (PWG)",1538,{"$f":"H6/J6","v":0.70132238942088465},{"$f":"E6+H6","v":2193},{"$f":"C6-J6","v":6}]
[]
[{"$f":"Wahlamt!A8","v":"Wittibreut"},{"$f":"Wahlamt!B8","v":1635},{"$f":"Wahlamt!C8","v":1379},{"$f":"Wahlamt!D8","v":"Moser Christine (CSU)"},{"$f":"Wahlamt!E8","v":739},{"$f":"Wahlamt!F8","v":0.53745454545454541},{"$f":"Wahlamt!G8","v":"Maier Alfons (FW)"},{"$f":"Wahlamt!H8","v":636},{"$f":"Wahlamt!I8","v":0.46254545454545454},{"$f":"Wahlamt!J8","v":1375},{"$f":"Wahlamt!K8","v":4}]

{"sheet":"Präsentation","index":2,"n_rows":8,"n_cols":6,"rows_kept":8,"cut":false,"hidden":false,"merged":[]}
["Ergebnisse der Bürgermeisterstichwahlen am 29. März 2020 im Landkreis Rottal-Inn"]
[]
["Gemeinden","Bewerber A","%","Bewerber B","%","Wahlbe-teiligung"]
[{"$f":"Wahlamt!A4","v":"Eggenfelden"},{"$f":"Wahlamt!D4","v":"Biber Martin (CSU)"},{"$f":"Wahlamt!F4*100","v":67.664211172498469},{"$f":"Wahlamt!G4","v":"Grubwinkler Wolfgang (UWG)"},{"$f":"Wahlamt!I4*100","v":32.335788827501531},{"$f":"Wahlamt!P4","v":0.61260078754922187}]
[]
[{"$f":"Wahlamt!A6","v":"Hebertsfelden"},{"$f":"Wahlamt!D6","v":"Utermann Marion (CSU)"},{"$f":"Wahlamt!F6*100","v":29.867761057911537},{"$f":"Wahlamt!G6","v":"Kienböck-Stöger Karin (PWG)"},{"$f":"Wahlamt!I6*100","v":70.132238942088463},{"$f":"Wahlamt!P6","v":0.75230927129661307}]
[]
[{"$f":"Wahlamt!A8","v":"Wittibreut"},{"$f":"Wahlamt!D8","v":"Moser Christine (CSU)"},{"$f":"Wahlamt!F8*100","v":53.745454545454542},{"$f":"Wahlamt!G8","v":"Maier Alfons (FW)"},{"$f":"Wahlamt!I8*100","v":46.25454545454545},{"$f":"Wahlamt!P8","v":0.84342507645259934}]